BEGIN:VCALENDAR
VERSION:2.0
PRODID:-//Sophicity/Tribune/Lithonia, GA
BEGIN:VEVENT
DTSTAMP:20260419T215232Z
UID:bc90973f-9ce3-420f-8b90-a9282563f984-3927
DTSTART:20220610T160000Z
DTEND:20220610T180000Z
CLASS:PUBLIC
SUMMARY:Budget Work Session Meeting #2
END:VEVENT
END:VCALENDAR
