BEGIN:VCALENDAR
VERSION:2.0
PRODID:-//Sophicity/Tribune/Lithonia, GA
BEGIN:VEVENT
DTSTAMP:20260420T131146Z
UID:bc90973f-9ce3-420f-8b90-a9282563f984-3936
DTSTART:20220524T213000Z
DTEND:20220524T233000Z
CLASS:PUBLIC
SUMMARY:Special Called Meeting
END:VEVENT
END:VCALENDAR
