BEGIN:VCALENDAR
VERSION:2.0
PRODID:-//Sophicity/Tribune/Lithonia, GA
BEGIN:VEVENT
DTSTAMP:20260420T124342Z
UID:bc90973f-9ce3-420f-8b90-a9282563f984-3945
DTSTART:20220618T113000Z
DTEND:20220618T230000Z
CLASS:PUBLIC
SUMMARY:Juneteenth '22 Celebration
END:VEVENT
END:VCALENDAR
