BEGIN:VCALENDAR
VERSION:2.0
PRODID:-//Sophicity/Tribune/Lithonia, GA
BEGIN:VEVENT
DTSTAMP:20260420T185958Z
UID:bc90973f-9ce3-420f-8b90-a9282563f984-4230
DTSTART:20240520T213000Z
DTEND:20240520T223000Z
LOCATION:6920 Main Street, Lithonia, GA 30058
CLASS:PUBLIC
SUMMARY:City Council Work Session Meeting 5:30
END:VEVENT
END:VCALENDAR
