BEGIN:VCALENDAR
VERSION:2.0
PRODID:-//Sophicity/Tribune/Lithonia, GA
BEGIN:VEVENT
DTSTAMP:20260422T090046Z
UID:bc90973f-9ce3-420f-8b90-a9282563f984-4309
DTSTART:20250818T213000Z
DTEND:20250818T223000Z
LOCATION:6920 Main Street, Lithonia, GA 30058
CLASS:PUBLIC
SUMMARY:Work Session Meeting
END:VEVENT
END:VCALENDAR
