BEGIN:VCALENDAR
VERSION:2.0
PRODID:-//Sophicity/Tribune/Lithonia, GA
BEGIN:VEVENT
DTSTAMP:20260425T140544Z
UID:bc90973f-9ce3-420f-8b90-a9282563f984-4392
DTSTART:20260613T220000Z
DTEND:20260614T020000Z
LOCATION:Lithonia Amphitheater
CLASS:PUBLIC
SUMMARY:Pre-Father's Concert
END:VEVENT
END:VCALENDAR
