BEGIN:VCALENDAR
VERSION:2.0
PRODID:-//Sophicity/Tribune/Lithonia, GA
BEGIN:VEVENT
DTSTAMP:20260425T140042Z
UID:bc90973f-9ce3-420f-8b90-a9282563f984-4394
DTSTART:20260621T160000Z
DTEND:20260622T010000Z
LOCATION:Lithonia Amphitheater
CLASS:PUBLIC
SUMMARY:Lithonia Family Fun Day
END:VEVENT
END:VCALENDAR
